BEGIN:VCALENDAR
PRODID:-//eluceo/ical//2.0/EN
VERSION:2.0
CALSCALE:GREGORIAN
BEGIN:VEVENT
UID:6b68e9c470ef2875b634bf59705564ad
DTSTAMP:20260420T112646Z
SUMMARY:Am Puls der Museumsentwicklung – Neues Naturmuseum St.Gallen: Dr.
  Toni Bürgin
DESCRIPTION:
URL:https://rotarysg.ch/es/agenda/show/20806
DTSTART;TZID=Europe/Zurich:20120227T121500
DTEND;TZID=Europe/Zurich:20120227T141500
LOCATION:Netts Schützengarten
CATEGORIES:Rotary
END:VEVENT
BEGIN:VTIMEZONE
TZID:Europe/Zurich
BEGIN:STANDARD
DTSTART:20120227T121500
TZNAME:CET
TZOFFSETTO:+0100
TZOFFSETFROM:+0100
END:STANDARD
END:VTIMEZONE
END:VCALENDAR
