BEGIN:VCALENDAR
PRODID:-//eluceo/ical//2.0/EN
VERSION:2.0
CALSCALE:GREGORIAN
BEGIN:VEVENT
UID:39fefce15423d9ac364e5a991db367c3
DTSTAMP:20260422T093223Z
SUMMARY:Sozialhilfe im Spannungsfeld divergierender Interessen / Patrik Mü
 ller\, Leiter Soziale Dienst Stadt St. Gallen
DESCRIPTION:
URL:https://rotarysg.ch/es/agenda/show/22096
DTSTART;TZID=Europe/Zurich:20120507T121500
DTEND;TZID=Europe/Zurich:20120507T141500
LOCATION:Restaurant Netts Schützengarten
CATEGORIES:Rotary
END:VEVENT
BEGIN:VTIMEZONE
TZID:Europe/Zurich
BEGIN:DAYLIGHT
DTSTART:20120507T121500
TZNAME:CEST
TZOFFSETTO:+0200
TZOFFSETFROM:+0200
END:DAYLIGHT
END:VTIMEZONE
END:VCALENDAR
