BEGIN:VCALENDAR
PRODID:-//eluceo/ical//2.0/EN
VERSION:2.0
CALSCALE:GREGORIAN
BEGIN:VEVENT
UID:9899bc3dcfec2c8ff7698eb42b123303
DTSTAMP:20260420T131552Z
SUMMARY:Lebenslauf Rot. Doris Aepli
DESCRIPTION:
URL:https://rotarysg.ch/es/agenda/show/22105
DTSTART;TZID=Europe/Zurich:20120618T121500
DTEND;TZID=Europe/Zurich:20120618T141500
LOCATION:Restaurant Netts Schützengarten
CATEGORIES:Rotary
END:VEVENT
BEGIN:VTIMEZONE
TZID:Europe/Zurich
BEGIN:DAYLIGHT
DTSTART:20120618T121500
TZNAME:CEST
TZOFFSETTO:+0200
TZOFFSETFROM:+0200
END:DAYLIGHT
END:VTIMEZONE
END:VCALENDAR
