BEGIN:VCALENDAR
PRODID:-//eluceo/ical//2.0/EN
VERSION:2.0
CALSCALE:GREGORIAN
BEGIN:VEVENT
UID:60ba2a019468d807521f1d7ffc31b0d8
DTSTAMP:20260420T101805Z
SUMMARY:Zum 1. August: Welche Perspektiven sehen die Jungen für unser Land
 ? – Odilo Lamprecht\, Präsident Jungfreisinnige Stadt St. Gallen
DESCRIPTION:
URL:https://rotarysg.ch/es/agenda/show/24857
DTSTART;TZID=Europe/Zurich:20120730T121500
DTEND;TZID=Europe/Zurich:20120730T141500
LOCATION:Restaurant Netts Schützengarten
CATEGORIES:Rotary
END:VEVENT
BEGIN:VTIMEZONE
TZID:Europe/Zurich
BEGIN:DAYLIGHT
DTSTART:20120730T121500
TZNAME:CEST
TZOFFSETTO:+0200
TZOFFSETFROM:+0200
END:DAYLIGHT
END:VTIMEZONE
END:VCALENDAR
