BEGIN:VCALENDAR
PRODID:-//eluceo/ical//2.0/EN
VERSION:2.0
CALSCALE:GREGORIAN
BEGIN:VEVENT
UID:b07e247d20ab118c72ab6d4d60ae9b2e
DTSTAMP:20260420T131834Z
SUMMARY:Bäumli-Stamm im Restaurant Bierfalken
DESCRIPTION:
URL:https://rotarysg.ch/es/agenda/show/25030
DTSTART;TZID=Europe/Zurich:20120731T180000
DTEND;TZID=Europe/Zurich:20120731T200000
LOCATION:Restaurant Bierfalken
CATEGORIES:Rotary
END:VEVENT
BEGIN:VTIMEZONE
TZID:Europe/Zurich
BEGIN:DAYLIGHT
DTSTART:20120731T180000
TZNAME:CEST
TZOFFSETTO:+0200
TZOFFSETFROM:+0200
END:DAYLIGHT
END:VTIMEZONE
END:VCALENDAR
