BEGIN:VCALENDAR
PRODID:-//eluceo/ical//2.0/EN
VERSION:2.0
CALSCALE:GREGORIAN
BEGIN:VEVENT
UID:697561976f73ac925ffcedef93041bf5
DTSTAMP:20260419T125202Z
SUMMARY:Best of Bach\, Benefizkonzert Schlupfhuus
DESCRIPTION:
URL:https://rotarysg.ch/es/agenda/show/26874
DTSTART;TZID=Europe/Zurich:20121101T170000
DTEND;TZID=Europe/Zurich:20121101T190000
LOCATION:Tonhalle St. Gallen
CATEGORIES:Rotary
END:VEVENT
BEGIN:VTIMEZONE
TZID:Europe/Zurich
BEGIN:STANDARD
DTSTART:20121101T170000
TZNAME:CET
TZOFFSETTO:+0100
TZOFFSETFROM:+0100
END:STANDARD
END:VTIMEZONE
END:VCALENDAR
