BEGIN:VCALENDAR
PRODID:-//eluceo/ical//2.0/EN
VERSION:2.0
CALSCALE:GREGORIAN
BEGIN:VEVENT
UID:945e36be4a57a4d8c7b633df6b9bc911
DTSTAMP:20260419T124803Z
SUMMARY:Weihnachtsanlass Wein & Poesie mit Rot. Jan Martel
DESCRIPTION:
URL:https://rotarysg.ch/es/agenda/show/26881
DTSTART;TZID=Europe/Zurich:20121217T000000
DTEND;TZID=Europe/Zurich:20121217T000000
LOCATION:gemäss separater Einladung
CATEGORIES:Rotary
END:VEVENT
BEGIN:VTIMEZONE
TZID:Europe/Zurich
BEGIN:STANDARD
DTSTART:20121217T000000
TZNAME:CET
TZOFFSETTO:+0100
TZOFFSETFROM:+0100
END:STANDARD
END:VTIMEZONE
END:VCALENDAR
