BEGIN:VCALENDAR
PRODID:-//eluceo/ical//2.0/EN
VERSION:2.0
CALSCALE:GREGORIAN
BEGIN:VEVENT
UID:3c5b579300d26505c7c9729bf3dab3fe
DTSTAMP:20260419T125848Z
SUMMARY:Präsenzlunch (Skiferien)
DESCRIPTION:
URL:https://rotarysg.ch/es/agenda/show/28965
DTSTART;TZID=Europe/Zurich:20130128T121500
DTEND;TZID=Europe/Zurich:20130128T141500
LOCATION:Restaurant Netts Schützengarten
CATEGORIES:Rotary
END:VEVENT
BEGIN:VTIMEZONE
TZID:Europe/Zurich
BEGIN:STANDARD
DTSTART:20130128T121500
TZNAME:CET
TZOFFSETTO:+0100
TZOFFSETFROM:+0100
END:STANDARD
END:VTIMEZONE
END:VCALENDAR
