BEGIN:VCALENDAR
PRODID:-//eluceo/ical//2.0/EN
VERSION:2.0
CALSCALE:GREGORIAN
BEGIN:VEVENT
UID:1f0fc327f9efc3405fc0b1ab9479c46f
DTSTAMP:20260421T123133Z
SUMMARY:Rot. Markus Isenrich: GV und Amtsübergabe
DESCRIPTION:Orador(es): Rot. Markus Isenrich
URL:https://rotarysg.ch/es/agenda/show/49928
DTSTART;TZID=Europe/Zurich:20150629T121500
DTEND;TZID=Europe/Zurich:20150629T121500
LOCATION:Restaurant Netts Schützengarten
CATEGORIES:Rotary
END:VEVENT
BEGIN:VTIMEZONE
TZID:Europe/Zurich
BEGIN:DAYLIGHT
DTSTART:20150629T121500
TZNAME:CEST
TZOFFSETTO:+0200
TZOFFSETFROM:+0200
END:DAYLIGHT
END:VTIMEZONE
END:VCALENDAR
