BEGIN:VCALENDAR
PRODID:-//eluceo/ical//2.0/EN
VERSION:2.0
CALSCALE:GREGORIAN
BEGIN:VEVENT
UID:7cf8eddd2e7f068517a8234f94452ce2
DTSTAMP:20260421T094357Z
SUMMARY:Bäumli-Stamm
DESCRIPTION:
URL:https://rotarysg.ch/es/agenda/show/53613
DTSTART;TZID=Europe/Zurich:20150929T180000
DTEND;TZID=Europe/Zurich:20150929T180000
LOCATION:Restaurant Bäumli
CATEGORIES:Rotary
END:VEVENT
BEGIN:VTIMEZONE
TZID:Europe/Zurich
BEGIN:DAYLIGHT
DTSTART:20150929T180000
TZNAME:CEST
TZOFFSETTO:+0200
TZOFFSETFROM:+0200
END:DAYLIGHT
END:VTIMEZONE
END:VCALENDAR
