BEGIN:VCALENDAR
PRODID:-//eluceo/ical//2.0/EN
VERSION:2.0
CALSCALE:GREGORIAN
BEGIN:VEVENT
UID:05fd7a160ce0933871760b872bba8710
DTSTAMP:20260421T094607Z
SUMMARY:Einwurf 2
DESCRIPTION:
URL:https://rotarysg.ch/es/agenda/show/55434
DTSTART;TZID=Europe/Zurich:20151012T121500
DTEND;TZID=Europe/Zurich:20151012T121500
LOCATION:Restaurant Netts Schützengarten
CATEGORIES:Rotary
END:VEVENT
BEGIN:VTIMEZONE
TZID:Europe/Zurich
BEGIN:DAYLIGHT
DTSTART:20151012T121500
TZNAME:CEST
TZOFFSETTO:+0200
TZOFFSETFROM:+0200
END:DAYLIGHT
END:VTIMEZONE
END:VCALENDAR
