BEGIN:VCALENDAR
PRODID:-//eluceo/ical//2.0/EN
VERSION:2.0
CALSCALE:GREGORIAN
BEGIN:VEVENT
UID:bb6420dc1dde739c9ef83daa845e930f
DTSTAMP:20260421T083544Z
SUMMARY:Bäumli-Stamm
DESCRIPTION:
URL:https://rotarysg.ch/es/agenda/show/55442
DTSTART;TZID=Europe/Zurich:20151027T180000
DTEND;TZID=Europe/Zurich:20151027T180000
LOCATION:Restaurant Bäumli
CATEGORIES:Rotary
END:VEVENT
BEGIN:VTIMEZONE
TZID:Europe/Zurich
BEGIN:STANDARD
DTSTART:20151027T180000
TZNAME:CET
TZOFFSETTO:+0100
TZOFFSETFROM:+0100
END:STANDARD
END:VTIMEZONE
END:VCALENDAR
