BEGIN:VCALENDAR
PRODID:-//eluceo/ical//2.0/EN
VERSION:2.0
CALSCALE:GREGORIAN
BEGIN:VEVENT
UID:21cadc091152b1ea5b0a3933665814aa
DTSTAMP:20260421T095018Z
SUMMARY:Einwurf 4 - Abstimmung vom 28.2.2016 - "Wieviel Wert ist uns der Ve
 rkehr"
DESCRIPTION:
URL:https://rotarysg.ch/es/agenda/show/59094
DTSTART;TZID=Europe/Zurich:20160118T121500
DTEND;TZID=Europe/Zurich:20160118T121500
LOCATION:Restaurant Netts Schützengarten
CATEGORIES:Rotary
END:VEVENT
BEGIN:VTIMEZONE
TZID:Europe/Zurich
BEGIN:STANDARD
DTSTART:20160118T121500
TZNAME:CET
TZOFFSETTO:+0100
TZOFFSETFROM:+0100
END:STANDARD
END:VTIMEZONE
END:VCALENDAR
