BEGIN:VCALENDAR
PRODID:-//eluceo/ical//2.0/EN
VERSION:2.0
CALSCALE:GREGORIAN
BEGIN:VEVENT
UID:a32a4f81f93f5d76237b6a5fcd2ae6cf
DTSTAMP:20260421T083852Z
SUMMARY:Fasnächtliche Schnitzelbank
DESCRIPTION:
URL:https://rotarysg.ch/es/agenda/show/59098
DTSTART;TZID=Europe/Zurich:20160208T121500
DTEND;TZID=Europe/Zurich:20160208T121500
LOCATION:Restaurant Netts Schützengarten
CATEGORIES:Rotary
END:VEVENT
BEGIN:VTIMEZONE
TZID:Europe/Zurich
BEGIN:STANDARD
DTSTART:20160208T121500
TZNAME:CET
TZOFFSETTO:+0100
TZOFFSETFROM:+0100
END:STANDARD
END:VTIMEZONE
END:VCALENDAR
