BEGIN:VCALENDAR
PRODID:-//eluceo/ical//2.0/EN
VERSION:2.0
CALSCALE:GREGORIAN
BEGIN:VEVENT
UID:97f855818529f4d5727416d0e0474730
DTSTAMP:20260419T175144Z
SUMMARY:Abendveranstaltung: Schlussanlass Rotary Jahr 2015/16
DESCRIPTION:
URL:https://rotarysg.ch/es/agenda/show/62359
DTSTART;TZID=Europe/Zurich:20160620T000000
DTEND;TZID=Europe/Zurich:20160620T000000
LOCATION:gemäss separater Einladung
CATEGORIES:Rotary
END:VEVENT
BEGIN:VTIMEZONE
TZID:Europe/Zurich
BEGIN:DAYLIGHT
DTSTART:20160620T000000
TZNAME:CEST
TZOFFSETTO:+0200
TZOFFSETFROM:+0200
END:DAYLIGHT
END:VTIMEZONE
END:VCALENDAR
