BEGIN:VCALENDAR
PRODID:-//eluceo/ical//2.0/EN
VERSION:2.0
CALSCALE:GREGORIAN
BEGIN:VEVENT
UID:8c5c8929fd6a92adfb9fbb40f3df013c
DTSTAMP:20260419T135110Z
SUMMARY:Rot. Marc König: „Unsere Kanti“ - Jugendliche berichten\, wie 
 sie die Kantonsschule erleben.
DESCRIPTION:Orador(es): Rot. Marc König
URL:https://rotarysg.ch/es/agenda/show/70039
DTSTART;TZID=Europe/Zurich:20170220T121500
DTEND;TZID=Europe/Zurich:20170220T121500
LOCATION:Restaurant Netts Schützengarten
CATEGORIES:Rotary
END:VEVENT
BEGIN:VTIMEZONE
TZID:Europe/Zurich
BEGIN:STANDARD
DTSTART:20170220T121500
TZNAME:CET
TZOFFSETTO:+0100
TZOFFSETFROM:+0100
END:STANDARD
END:VTIMEZONE
END:VCALENDAR
